BEGIN:VCALENDAR
VERSION:2.0
PRODID:-//Telerik Inc.//NONSGML RadScheduler//EN
METHOD:PUBLISH
BEGIN:VEVENT
DTSTART:20230505T223000Z
DTEND:20230505T233000Z
UID:20231030T192452Z-
DTSTAMP:20231030T192452Z
LOCATION:   
SUMMARY:Sample Event Listing
DESCRIPTION:This is a description of your event.
END:VEVENT
END:VCALENDAR
